BEGIN:VCALENDAR
VERSION:2.0
PRODID:-//Sterling-Team - ECPv6.15.20//NONSGML v1.0//EN
CALSCALE:GREGORIAN
METHOD:PUBLISH
X-WR-CALNAME:Sterling-Team
X-ORIGINAL-URL:https://sterling-team.org
X-WR-CALDESC:Veranstaltungen für Sterling-Team
REFRESH-INTERVAL;VALUE=DURATION:PT1H
X-Robots-Tag:noindex
X-PUBLISHED-TTL:PT1H
BEGIN:VTIMEZONE
TZID:Europe/Berlin
BEGIN:DAYLIGHT
TZOFFSETFROM:+0100
TZOFFSETTO:+0200
TZNAME:CEST
DTSTART:20160327T010000
END:DAYLIGHT
BEGIN:STANDARD
TZOFFSETFROM:+0200
TZOFFSETTO:+0100
TZNAME:CET
DTSTART:20161030T010000
END:STANDARD
BEGIN:DAYLIGHT
TZOFFSETFROM:+0100
TZOFFSETTO:+0200
TZNAME:CEST
DTSTART:20170326T010000
END:DAYLIGHT
BEGIN:STANDARD
TZOFFSETFROM:+0200
TZOFFSETTO:+0100
TZNAME:CET
DTSTART:20171029T010000
END:STANDARD
BEGIN:DAYLIGHT
TZOFFSETFROM:+0100
TZOFFSETTO:+0200
TZNAME:CEST
DTSTART:20180325T010000
END:DAYLIGHT
BEGIN:STANDARD
TZOFFSETFROM:+0200
TZOFFSETTO:+0100
TZNAME:CET
DTSTART:20181028T010000
END:STANDARD
BEGIN:DAYLIGHT
TZOFFSETFROM:+0100
TZOFFSETTO:+0200
TZNAME:CEST
DTSTART:20190331T010000
END:DAYLIGHT
BEGIN:STANDARD
TZOFFSETFROM:+0200
TZOFFSETTO:+0100
TZNAME:CET
DTSTART:20191027T010000
END:STANDARD
END:VTIMEZONE
BEGIN:VEVENT
DTSTART;TZID=Europe/Berlin:20181223T193000
DTEND;TZID=Europe/Berlin:20181224T030000
DTSTAMP:20260425T142652
CREATED:20181125T082813Z
LAST-MODIFIED:20181125T083835Z
UID:907-1545593400-1545620400@sterling-team.org
SUMMARY:Weihnachtsfeier SVOS-Jugend (feat. Sterling-Team)
DESCRIPTION:Liebe Alle\, \nwie auch im letzten Jahr wollen wir dieses Jahr gerne eine kleine Weihnachtsfeier im mexikanischen Stil veranstalten.\nWir freuen uns euch alle im Los Bandidos begrüßen zu dürfen.\nEingeladen ist die gesamte SVOS-Jugend sowie alle befreundeten Vereine und auch gerne Freunde.\nBitte meldet euch verbindlich bis 15.12. unten an. \nWir stehen nicht auf vorgefertigte Menüs\, Getränke und Essen à la carte!\nFrüh da sein lohnt sich bis 21:00 Uhr gibt es Happy Hour Preise auf alles.\nDie Speisekarte findet ihr hier: Zur Speisekarte \nWir freuen uns auf einen lustigen Abend und zahlreiches Erscheinen.\nDas Orga-Team
URL:https://sterling-team.org/event/weihnachtsfeier-svos-jugend-feat-sterling-team/
LOCATION:Los Bandidos\, Thalkirchner Str. 71\, München\, 80337\, Deutschland
ATTACH;FMTTYPE=image/jpeg:https://sterling-team.org/wp-content/uploads/2018/11/blur-blurred-background-bokeh-728458-e1543134685785-scaled.jpg
ORGANIZER;CN="Sterling-Team":MAILTO:info@sterling-team.org
END:VEVENT
BEGIN:VEVENT
DTSTART;TZID=Europe/Berlin:20171221T200000
DTEND;TZID=Europe/Berlin:20171221T233000
DTSTAMP:20260425T142652
CREATED:20171121T111754Z
LAST-MODIFIED:20171217T090549Z
UID:523-1513886400-1513899000@sterling-team.org
SUMMARY:Weihnachtsfeier Sterling-Team & Friends
DESCRIPTION:Liebes Team\, Liebe Freunde des Teams\, \nWeihnachten naht\, es lag schon der erste Schnee und es wird kälter.\nAuf dem Wasser werden sich nun wohl die wenigsten von uns wiederfinden. \nUm die kalte Jahreszeit etwas zu überbrücken wollen auch wir eine kleinere Weihnachtsfeier in Form eines mexikanischen Abends veranstalten. \nBitte meldet euch unten mit Hilfe der Tickets an.\nWir freuen uns auf einen lustigen Abend mit euch. \nDas Sterling-Team
URL:https://sterling-team.org/event/weihnachtsfeier2017/
LOCATION:Los Bandidos\, Thalkirchner Str. 71\, München\, 80337\, Deutschland
ATTACH;FMTTYPE=image/jpeg:https://sterling-team.org/wp-content/uploads/2017/11/christmas-balls-1830358_1920-e1511263976478.jpg
ORGANIZER;CN="Sterling-Team":MAILTO:info@sterling-team.org
END:VEVENT
END:VCALENDAR